BEGIN:VCALENDAR
VERSION:2.0
METHOD:PUBLISH
PRODID:-//Microsoft Corporation//Outlook 11.0 MIMEDIR//EN
BEGIN:VEVENT
UID:1cc41d71-09c9-4832-b783-57063e6cac75
DTSTAMP:20260419T134330Z
DTSTART:20260303T120000Z
DTEND:20260303T140000Z
SUMMARY:BNY Investments: Carteras ante un ciclo exigente
LOCATION:Hotel Carlton Plaza Federico Moyúa 2\, Abando Bilbao
DESCRIPTION:En un entorno marcado por mayor volatilidad\, tensiones geopolíticas y valoraciones exigentes\, las decisiones de inversión requieren una visión integral y disciplina en la diversificación.\nNos complace invitarle a nuestra conferencia\, donde abordaremos:\n\nEscenario macroeconómico: crecimiento\, inflación y trayectoria de tipos de interés.\n\nValoraciones exigentes: cómo equilibrar calidad\, rentabilidad y flujo de caja en un mercado selectivo.\n\nDiversificación de carteras: incorporar nuevas fuentes de alpha equilibrando riesgo y generación de ingresos.\n
END:VEVENT
END:VCALENDAR
